BEGIN:VCALENDAR
VERSION:2.0
PRODID:icalendar-ruby
CALSCALE:GREGORIAN
METHOD:PUBLISH
BEGIN:VEVENT
DTSTAMP:20260423T123826Z
UID:5-445585@biloxichristianchurch.com
DTSTART:20261025T170000Z
DTEND:20261025T180000Z
CLASS:PUBLIC
CREATED:20260422T201801
DESCRIPTION:Sunday Worship
LAST-MODIFIED:20260422T201801
LOCATION:
SUMMARY:Sunday Worship
URL;VALUE=URI:https://biloxichristianchurch.com/events/sunday-worship/2026-
 10-25
END:VEVENT
END:VCALENDAR
