BEGIN:VCALENDAR
VERSION:2.0
PRODID:icalendar-ruby
CALSCALE:GREGORIAN
METHOD:PUBLISH
BEGIN:VEVENT
DTSTAMP:20260423T094202Z
UID:5-445583@biloxichristianchurch.com
DTSTART:20261011T170000Z
DTEND:20261011T180000Z
CLASS:PUBLIC
CREATED:20260422T201801
DESCRIPTION:Sunday Worship
LAST-MODIFIED:20260422T201801
LOCATION:
SUMMARY:Sunday Worship
URL;VALUE=URI:https://biloxichristianchurch.com/events/sunday-worship/2026-
 10-11
END:VEVENT
END:VCALENDAR
